BEGIN:VCALENDAR
VERSION:2.0
PRODID:-//Bourgs sur Colagne - ECPv6.15.20//NONSGML v1.0//EN
CALSCALE:GREGORIAN
METHOD:PUBLISH
X-WR-CALNAME:Bourgs sur Colagne
X-ORIGINAL-URL:https://www.bourgssurcolagne.fr
X-WR-CALDESC:Évènements pour Bourgs sur Colagne
REFRESH-INTERVAL;VALUE=DURATION:PT1H
X-Robots-Tag:noindex
X-PUBLISHED-TTL:PT1H
BEGIN:VTIMEZONE
TZID:Europe/Paris
BEGIN:DAYLIGHT
TZOFFSETFROM:+0100
TZOFFSETTO:+0200
TZNAME:CEST
DTSTART:20240331T010000
END:DAYLIGHT
BEGIN:STANDARD
TZOFFSETFROM:+0200
TZOFFSETTO:+0100
TZNAME:CET
DTSTART:20241027T010000
END:STANDARD
BEGIN:DAYLIGHT
TZOFFSETFROM:+0100
TZOFFSETTO:+0200
TZNAME:CEST
DTSTART:20250330T010000
END:DAYLIGHT
BEGIN:STANDARD
TZOFFSETFROM:+0200
TZOFFSETTO:+0100
TZNAME:CET
DTSTART:20251026T010000
END:STANDARD
BEGIN:DAYLIGHT
TZOFFSETFROM:+0100
TZOFFSETTO:+0200
TZNAME:CEST
DTSTART:20260329T010000
END:DAYLIGHT
BEGIN:STANDARD
TZOFFSETFROM:+0200
TZOFFSETTO:+0100
TZNAME:CET
DTSTART:20261025T010000
END:STANDARD
END:VTIMEZONE
BEGIN:VEVENT
DTSTART;TZID=Europe/Paris:20251115T200000
DTEND;TZID=Europe/Paris:20251116T030000
DTSTAMP:20260419T145634
CREATED:20251115T084223Z
LAST-MODIFIED:20251115T084223Z
UID:10776-1763236800-1763262000@www.bourgssurcolagne.fr
SUMMARY:LOTO DU FOOT
DESCRIPTION:L’entente FOOT Chirac / Le Monastier propose un LOTO \nAvec de nombreux lots à gangner \n2.5 € le Carton
URL:https://www.bourgssurcolagne.fr/evenement/loto-du-foot/
LOCATION:Salle du Temps Libre\, Chirac\, BOURGS SUR COLAGNE\, 48100\, France
CATEGORIES:Animations
ATTACH;FMTTYPE=image/jpeg:https://www.bourgssurcolagne.fr/wp-content/uploads/2025/11/loto-foot2025.jpg
END:VEVENT
BEGIN:VEVENT
DTSTART;TZID=Europe/Paris:20251116T140000
DTEND;TZID=Europe/Paris:20251116T183000
DTSTAMP:20260419T145634
CREATED:20251001T062954Z
LAST-MODIFIED:20251001T063143Z
UID:10178-1763301600-1763317800@www.bourgssurcolagne.fr
SUMMARY:LOTO a l'école Sainte Angéle
DESCRIPTION:Pour financer ses activités à destination des enfants\, l’APEL de l’école SAINT ANGELE organise un après-midi LOTO. \nNombreux lots à gagner…
URL:https://www.bourgssurcolagne.fr/evenement/loto-a-lecole-sainte-angele/
LOCATION:Salle du Temps Libre\, Chirac\, BOURGS SUR COLAGNE\, 48100\, France
CATEGORIES:Animations
ATTACH;FMTTYPE=image/jpeg:https://www.bourgssurcolagne.fr/wp-content/uploads/2025/10/Affiche-Annonce-Soiree-Loto-Moderne-Illustre-Colore-2.jpg
END:VEVENT
END:VCALENDAR