BEGIN:VCALENDAR
VERSION:2.0
PRODID:-//Bourgs sur Colagne - ECPv6.15.20//NONSGML v1.0//EN
CALSCALE:GREGORIAN
METHOD:PUBLISH
X-WR-CALNAME:Bourgs sur Colagne
X-ORIGINAL-URL:https://www.bourgssurcolagne.fr
X-WR-CALDESC:Évènements pour Bourgs sur Colagne
REFRESH-INTERVAL;VALUE=DURATION:PT1H
X-Robots-Tag:noindex
X-PUBLISHED-TTL:PT1H
BEGIN:VTIMEZONE
TZID:Europe/Paris
BEGIN:DAYLIGHT
TZOFFSETFROM:+0100
TZOFFSETTO:+0200
TZNAME:CEST
DTSTART:20240331T010000
END:DAYLIGHT
BEGIN:STANDARD
TZOFFSETFROM:+0200
TZOFFSETTO:+0100
TZNAME:CET
DTSTART:20241027T010000
END:STANDARD
BEGIN:DAYLIGHT
TZOFFSETFROM:+0100
TZOFFSETTO:+0200
TZNAME:CEST
DTSTART:20250330T010000
END:DAYLIGHT
BEGIN:STANDARD
TZOFFSETFROM:+0200
TZOFFSETTO:+0100
TZNAME:CET
DTSTART:20251026T010000
END:STANDARD
BEGIN:DAYLIGHT
TZOFFSETFROM:+0100
TZOFFSETTO:+0200
TZNAME:CEST
DTSTART:20260329T010000
END:DAYLIGHT
BEGIN:STANDARD
TZOFFSETFROM:+0200
TZOFFSETTO:+0100
TZNAME:CET
DTSTART:20261025T010000
END:STANDARD
END:VTIMEZONE
BEGIN:VEVENT
DTSTART;TZID=Europe/Paris:20251122T080000
DTEND;TZID=Europe/Paris:20251122T170000
DTSTAMP:20260421T144723
CREATED:20251106T062208Z
LAST-MODIFIED:20251106T062208Z
UID:10512-1763798400-1763830800@www.bourgssurcolagne.fr
SUMMARY:Soirée Truffade - Karaoké
DESCRIPTION:L’association Colagne Moto Sports propose une soirée conviviale autour d’un bon repas. \nAu menu : \nSalade \nTruffade et saucisse grillée \nTarte aux fruits & café \nRéservations au 06-80-89-54-43
URL:https://www.bourgssurcolagne.fr/evenement/soiree-truffade-karaoke/
LOCATION:Salle du Temps Libre\, Chirac\, BOURGS SUR COLAGNE\, 48100\, France
CATEGORIES:Animations
ATTACH;FMTTYPE=image/jpeg:https://www.bourgssurcolagne.fr/wp-content/uploads/2025/11/IMG-20251026-WA0010.jpg
END:VEVENT
BEGIN:VEVENT
DTSTART;TZID=Europe/Paris:20251122T203000
DTEND;TZID=Europe/Paris:20251123T020000
DTSTAMP:20260421T144723
CREATED:20251106T061808Z
LAST-MODIFIED:20251106T061808Z
UID:10508-1763843400-1763863200@www.bourgssurcolagne.fr
SUMMARY:LOTO APE Claude ERIGNAC
DESCRIPTION:Pour financer les sorties des enfants sur l’année scolaire\, l’association des parents d’élèves de l’école publique Claude ERIGNAC propose un loto avec de nombreux lots à gagner. \nVenez assister à un moment convivial et chaleureux. \n2.5 € le carton ou 10 € les 5 en vente sur place \nBuvette et petite restauration
URL:https://www.bourgssurcolagne.fr/evenement/loto-ape-claude-erignac/
LOCATION:Salle COLUCCI\, Place du Teil\, Bourgs sur Colagne\, 48100\, France
CATEGORIES:Animations
ATTACH;FMTTYPE=image/jpeg:https://www.bourgssurcolagne.fr/wp-content/uploads/2025/11/loto-eperignac.jpg
ORGANIZER;CN="Association des amis de l'Ecole Publique du MONASTIER":MAILTO:ape-monastier@hotmail.fr
END:VEVENT
END:VCALENDAR