BEGIN:VCALENDAR
VERSION:2.0
PRODID:-//Bourgs sur Colagne - ECPv6.15.20//NONSGML v1.0//EN
CALSCALE:GREGORIAN
METHOD:PUBLISH
X-ORIGINAL-URL:https://www.bourgssurcolagne.fr
X-WR-CALDESC:Évènements pour Bourgs sur Colagne
REFRESH-INTERVAL;VALUE=DURATION:PT1H
X-Robots-Tag:noindex
X-PUBLISHED-TTL:PT1H
BEGIN:VTIMEZONE
TZID:Europe/Paris
BEGIN:DAYLIGHT
TZOFFSETFROM:+0100
TZOFFSETTO:+0200
TZNAME:CEST
DTSTART:20240331T010000
END:DAYLIGHT
BEGIN:STANDARD
TZOFFSETFROM:+0200
TZOFFSETTO:+0100
TZNAME:CET
DTSTART:20241027T010000
END:STANDARD
BEGIN:DAYLIGHT
TZOFFSETFROM:+0100
TZOFFSETTO:+0200
TZNAME:CEST
DTSTART:20250330T010000
END:DAYLIGHT
BEGIN:STANDARD
TZOFFSETFROM:+0200
TZOFFSETTO:+0100
TZNAME:CET
DTSTART:20251026T010000
END:STANDARD
BEGIN:DAYLIGHT
TZOFFSETFROM:+0100
TZOFFSETTO:+0200
TZNAME:CEST
DTSTART:20260329T010000
END:DAYLIGHT
BEGIN:STANDARD
TZOFFSETFROM:+0200
TZOFFSETTO:+0100
TZNAME:CET
DTSTART:20261025T010000
END:STANDARD
END:VTIMEZONE
BEGIN:VEVENT
DTSTART;TZID=Europe/Paris:20251130T100000
DTEND;TZID=Europe/Paris:20251130T180000
DTSTAMP:20260421T104006
CREATED:20251118T055742Z
LAST-MODIFIED:20251118T055803Z
UID:10861-1764496800-1764525600@www.bourgssurcolagne.fr
SUMMARY:Marché de noël
DESCRIPTION:Le dernier dimanche de NOEL\, les associations et artisans locaux vous donnent RDV au Monastier\, salle COLUCCI pour leur traditionnel marché de NOEL. \nVenez découvrir les créations de ces exposants dans une atmosphère conviviale et chaleureuse. \nPendant la durée du marché\, visite du père NOEL et possibilité de réaliser une photo souvenir. \nMarrons chauds\, crêpes\, assiettes d’huitres et boissons seront proposés par le comité des fêtes et le Foyer Rural du Monastier. \nEntrée libre.
URL:https://www.bourgssurcolagne.fr/evenement/marche-de-noel/
LOCATION:Salle COLUCCI\, Place du Teil\, Bourgs sur Colagne\, 48100\, France
CATEGORIES:Animations,Marché
ATTACH;FMTTYPE=image/jpeg:https://www.bourgssurcolagne.fr/wp-content/uploads/2025/11/MARCHE-DE-NOEL-LE-MONASTIER-BOURGS-SUR-COLAGNE-.jpg
END:VEVENT
BEGIN:VEVENT
DTSTART;TZID=Europe/Paris:20251130T130000
DTEND;TZID=Europe/Paris:20251130T170000
DTSTAMP:20260421T104006
CREATED:20251126T214651Z
LAST-MODIFIED:20251126T214651Z
UID:11143-1764507600-1764522000@www.bourgssurcolagne.fr
SUMMARY:Randonnée pour le week-end
DESCRIPTION:Dimanche 30 novembre\, si le temps le permet\, Mireille nous amènera sur le Sauveterre à la découverte d’un circuit intitulé \nLe Choizal \nDistance 9kms \,classé 1 chaussure et un D+ 160m \n  \nDépart covoiturage du parking nord de Carrefour de Marvejols  à 13h. \n  \nTous renseignements complémentaires par  contact téléphonique .au 07 81 34 67 75
URL:https://www.bourgssurcolagne.fr/evenement/randonnee-pour-le-week-end-6/
LOCATION:Parking CARREFOUR
CATEGORIES:Evenements sportifs
ATTACH;FMTTYPE=image/png:https://www.bourgssurcolagne.fr/wp-content/uploads/2020/08/Logo-Randonneurs.png
END:VEVENT
END:VCALENDAR