BEGIN:VCALENDAR
VERSION:2.0
PRODID:-//Bourgs sur Colagne - ECPv6.15.20//NONSGML v1.0//EN
CALSCALE:GREGORIAN
METHOD:PUBLISH
X-ORIGINAL-URL:https://www.bourgssurcolagne.fr
X-WR-CALDESC:Évènements pour Bourgs sur Colagne
REFRESH-INTERVAL;VALUE=DURATION:PT1H
X-Robots-Tag:noindex
X-PUBLISHED-TTL:PT1H
BEGIN:VTIMEZONE
TZID:Europe/Paris
BEGIN:DAYLIGHT
TZOFFSETFROM:+0100
TZOFFSETTO:+0200
TZNAME:CEST
DTSTART:20250330T010000
END:DAYLIGHT
BEGIN:STANDARD
TZOFFSETFROM:+0200
TZOFFSETTO:+0100
TZNAME:CET
DTSTART:20251026T010000
END:STANDARD
BEGIN:DAYLIGHT
TZOFFSETFROM:+0100
TZOFFSETTO:+0200
TZNAME:CEST
DTSTART:20260329T010000
END:DAYLIGHT
BEGIN:STANDARD
TZOFFSETFROM:+0200
TZOFFSETTO:+0100
TZNAME:CET
DTSTART:20261025T010000
END:STANDARD
BEGIN:DAYLIGHT
TZOFFSETFROM:+0100
TZOFFSETTO:+0200
TZNAME:CEST
DTSTART:20270328T010000
END:DAYLIGHT
BEGIN:STANDARD
TZOFFSETFROM:+0200
TZOFFSETTO:+0100
TZNAME:CET
DTSTART:20271031T010000
END:STANDARD
END:VTIMEZONE
BEGIN:VEVENT
DTSTART;TZID=Europe/Paris:20260111T130000
DTEND;TZID=Europe/Paris:20260111T170000
DTSTAMP:20260420T103305
CREATED:20260106T202901Z
LAST-MODIFIED:20260106T202901Z
UID:12763-1768136400-1768150800@www.bourgssurcolagne.fr
SUMMARY:Randonnée pour le week-end
DESCRIPTION:Nous avons démarré l’année avec la galette et le cidre mais il est temps de commencer à se « décrasser » !!! \nPour cela\,  dimanche 11 janvier notre ami Jean-Luc nous propose de nous guider \n  \nsur les chemins de Sainte Colombe de Peyre au Cher. \n  \nRandonnée de 8 kms avec un D+110 m classée 1 chaussure – Départ covoiturage à 13h du Parking Carrefour Nord \nPour plus de renseignements vous pouvez contacter notre guide au 06.61.27.14.73 et n’oubliez pas de l’informer si vous venez pour la première fois car d’ici à dimanche les conditions de marche peuvent évoluer.
URL:https://www.bourgssurcolagne.fr/evenement/randonnee-pour-le-week-end-8/
LOCATION:Parking CARREFOUR
CATEGORIES:Evenements sportifs
ATTACH;FMTTYPE=image/png:https://www.bourgssurcolagne.fr/wp-content/uploads/2020/08/Logo-Randonneurs.png
END:VEVENT
END:VCALENDAR