BEGIN:VCALENDAR
VERSION:2.0
PRODID:-//Bourgs sur Colagne - ECPv6.15.20//NONSGML v1.0//EN
CALSCALE:GREGORIAN
METHOD:PUBLISH
X-WR-CALNAME:Bourgs sur Colagne
X-ORIGINAL-URL:https://www.bourgssurcolagne.fr
X-WR-CALDESC:Évènements pour Bourgs sur Colagne
REFRESH-INTERVAL;VALUE=DURATION:PT1H
X-Robots-Tag:noindex
X-PUBLISHED-TTL:PT1H
BEGIN:VTIMEZONE
TZID:Europe/Paris
BEGIN:DAYLIGHT
TZOFFSETFROM:+0100
TZOFFSETTO:+0200
TZNAME:CEST
DTSTART:20250330T010000
END:DAYLIGHT
BEGIN:STANDARD
TZOFFSETFROM:+0200
TZOFFSETTO:+0100
TZNAME:CET
DTSTART:20251026T010000
END:STANDARD
BEGIN:DAYLIGHT
TZOFFSETFROM:+0100
TZOFFSETTO:+0200
TZNAME:CEST
DTSTART:20260329T010000
END:DAYLIGHT
BEGIN:STANDARD
TZOFFSETFROM:+0200
TZOFFSETTO:+0100
TZNAME:CET
DTSTART:20261025T010000
END:STANDARD
BEGIN:DAYLIGHT
TZOFFSETFROM:+0100
TZOFFSETTO:+0200
TZNAME:CEST
DTSTART:20270328T010000
END:DAYLIGHT
BEGIN:STANDARD
TZOFFSETFROM:+0200
TZOFFSETTO:+0100
TZNAME:CET
DTSTART:20271031T010000
END:STANDARD
END:VTIMEZONE
BEGIN:VEVENT
DTSTART;TZID=Europe/Paris:20260118T130000
DTEND;TZID=Europe/Paris:20260118T170000
DTSTAMP:20260421T103435
CREATED:20260113T173708Z
LAST-MODIFIED:20260113T173708Z
UID:12812-1768741200-1768755600@www.bourgssurcolagne.fr
SUMMARY:Randonnée pour le week-end
DESCRIPTION:Dimanche 18 Janvier 2026\, Bernard des Randonneurs de la Fare nous emmènera faire \nle grand tour du Truc de Saint-Bonnet  \nRandonnée de 8 kms avec un D+240 m classée 2 chaussures – Départ covoiturage à 13h du Parking Carrefour Nord vers aller au point de démarrage salle des fêtes de Palhers. \nPour plus de renseignements vous pouvez contacter notre guide au  07.86.48.69.19. \nN’hésitez pas à l’appeler en cas éventuel de changement de dernière minute.
URL:https://www.bourgssurcolagne.fr/evenement/randonnee-pour-le-week-end-9/
LOCATION:Parking CARREFOUR
CATEGORIES:Evenements sportifs
ATTACH;FMTTYPE=image/png:https://www.bourgssurcolagne.fr/wp-content/uploads/2020/08/Logo-Randonneurs.png
END:VEVENT
END:VCALENDAR