BEGIN:VCALENDAR
VERSION:2.0
PRODID:-//Bourgs sur Colagne - ECPv6.15.20//NONSGML v1.0//EN
CALSCALE:GREGORIAN
METHOD:PUBLISH
X-WR-CALNAME:Bourgs sur Colagne
X-ORIGINAL-URL:https://www.bourgssurcolagne.fr
X-WR-CALDESC:Évènements pour Bourgs sur Colagne
REFRESH-INTERVAL;VALUE=DURATION:PT1H
X-Robots-Tag:noindex
X-PUBLISHED-TTL:PT1H
BEGIN:VTIMEZONE
TZID:Europe/Paris
BEGIN:DAYLIGHT
TZOFFSETFROM:+0100
TZOFFSETTO:+0200
TZNAME:CEST
DTSTART:20250330T010000
END:DAYLIGHT
BEGIN:STANDARD
TZOFFSETFROM:+0200
TZOFFSETTO:+0100
TZNAME:CET
DTSTART:20251026T010000
END:STANDARD
BEGIN:DAYLIGHT
TZOFFSETFROM:+0100
TZOFFSETTO:+0200
TZNAME:CEST
DTSTART:20260329T010000
END:DAYLIGHT
BEGIN:STANDARD
TZOFFSETFROM:+0200
TZOFFSETTO:+0100
TZNAME:CET
DTSTART:20261025T010000
END:STANDARD
BEGIN:DAYLIGHT
TZOFFSETFROM:+0100
TZOFFSETTO:+0200
TZNAME:CEST
DTSTART:20270328T010000
END:DAYLIGHT
BEGIN:STANDARD
TZOFFSETFROM:+0200
TZOFFSETTO:+0100
TZNAME:CET
DTSTART:20271031T010000
END:STANDARD
END:VTIMEZONE
BEGIN:VEVENT
DTSTART;TZID=Europe/Paris:20260201T090000
DTEND;TZID=Europe/Paris:20260201T133000
DTSTAMP:20260422T115715
CREATED:20260127T061427Z
LAST-MODIFIED:20260127T062737Z
UID:12973-1769936400-1769952600@www.bourgssurcolagne.fr
SUMMARY:Randonnée pour le week-end
DESCRIPTION:Les Randonneurs de la Fare proposent le 1er février \nun parcours pédestre à \nLe Mont Canis  au départ des Balmes (La Canourgue) \n         Distance maximum 15kms \, d+ 450m \, classée 2 ch. \nDépart covoiturage 9h du parking Carrefour de Marvejols \nLe guide sera Bernard N . Vous pouvez l’appeler pour renseignements                          complémentaires au 07 86 48 69 19. \nN’hésitez pas à l’appeler en cas éventuel de changement de dernière minute.
URL:https://www.bourgssurcolagne.fr/evenement/randonnee-pour-le-week-end-10/
LOCATION:Parking CARREFOUR
CATEGORIES:Evenements sportifs
ATTACH;FMTTYPE=image/png:https://www.bourgssurcolagne.fr/wp-content/uploads/2020/08/Logo-Randonneurs.png
END:VEVENT
BEGIN:VEVENT
DTSTART;TZID=Europe/Paris:20260201T140000
DTEND;TZID=Europe/Paris:20260201T170000
DTSTAMP:20260422T115715
CREATED:20260127T062437Z
LAST-MODIFIED:20260127T062625Z
UID:12975-1769954400-1769965200@www.bourgssurcolagne.fr
SUMMARY:Film
DESCRIPTION:Le Club de l’amitié\, \nvous invite gratuitement au visionnage du film de M Benoit COLOMB : « Lozère entre ciel et terre » à la salle du temps libre de Chirac à 14h00 le 1er février 2026.
URL:https://www.bourgssurcolagne.fr/evenement/film/
CATEGORIES:Animations
ATTACH;FMTTYPE=image/jpeg:https://www.bourgssurcolagne.fr/wp-content/uploads/2026/01/lozere-entre-ciel-et-terre_poster.jpg
END:VEVENT
BEGIN:VEVENT
DTSTART;TZID=Europe/Paris:20260214T080000
DTEND;TZID=Europe/Paris:20260215T170000
DTSTAMP:20260422T115715
CREATED:20260110T074744Z
LAST-MODIFIED:20260110T075321Z
UID:12782-1771056000-1771174800@www.bourgssurcolagne.fr
SUMMARY:Stage de chants
DESCRIPTION:Public et Contenu du stage\n• S’adresse à tout public familiarisé au chant polyphonique.\n• Voyage dans différents répertoires de chants des pays de l’Est (Bulgarie\, Croatie\, etc. ) et découverte des polyphonies a cappella.\n• Grâce à des petits outils de technique vocale\, nous aborderons le lien oreille-voix et le rapport à notre corps-instrument afin de trouver une façon de faire « Résonner » le groupe\, garder un geste vocal sain\, confortable\, à la fois puissant et doux. \nNous pourrons jouer avec le timbre de nos voix\, apprendre à pratiquer les ornements\ncaractéristiques des chants abordés\, le tout dans le plaisir de chanter ensemble\, en chœur. \nRepas de midi partagé.\n• Une restitution clôturera le stage le dimanche en fin d’après-midi.\n• L’association se réserve la possibilité d’annuler le stage an cas de manque d’effectif ou de force\nmajeure. \nCécilia SIMONET\nest titulaire du Diplôme d’État de professeur de musique traditionnelle du domaine occitan et du\nDiplôme Universitaire de Musicothérapeute. Depuis plus de dix ans\, elle enseigne la musique et le\nchant auprès d’enfants\, d’adolescents et d’adultes.\n« C’est grâce à mon amie et collègue Awena Burgess (chanteuse\, comédienne\, enseignante de chant et\nformatrice Feldenkraïs) du groupe Balval que je découvre le répertoire de chants Roms. Grâce à elle\, je\nplonge dans cet univers.\nD’autres amies chanteuses\, dont Veronika Warkentin\, me transmettent également plusieurs pièces\npolyphoniques « a cappella » des pays de l’Est. J’ai enseigné pendant 10 ans dans une école de musique\nassociative du Piémont-Cévénol où nous avons eu l’occasion d’aborder ces répertoires (bulgares\, serbes\,\ncroates\, etc.) sous le contrôle linguistique « d’alliés » sur le territoire. » \nInscriptions jusqu’au 25 Janvier\nlimitées à 20 personnes\nMélanie Copeaux : 07 82 69 58 24\nles-arts-du-chant@hotmail.com
URL:https://www.bourgssurcolagne.fr/evenement/stage-de-chants/
LOCATION:Salle COLUCCI\, Place du Teil\, Bourgs sur Colagne\, 48100\, France
CATEGORIES:Ateliers
ATTACH;FMTTYPE=application/pdf:https://www.bourgssurcolagne.fr/wp-content/uploads/2026/01/STAGE-BALKANS-P1.pdf
END:VEVENT
BEGIN:VEVENT
DTSTART;TZID=Europe/Paris:20260215T143000
DTEND;TZID=Europe/Paris:20260215T170000
DTSTAMP:20260422T115715
CREATED:20260120T190617Z
LAST-MODIFIED:20260120T190617Z
UID:12863-1771165800-1771174800@www.bourgssurcolagne.fr
SUMMARY:SHIATSU
DESCRIPTION:L’association de karaté et Michel LACAGE proposent un stage de SHIATSU. \nLe Shiatsu est une technique manuelle de soin d’origine japonaise\, de prévention et d’accompagnement pour de nombreuses problématiques énergétiques d’ordre physiques et émotionnelles. \ninscriptions au 0621387765 ou michel.lacage@gmail.com \n15 € pour les frais d’inscriptions
URL:https://www.bourgssurcolagne.fr/evenement/shiatsu-2/
LOCATION:DOJO\, Complexe Sportif Marceau Crespin\, BOURGS SUR COLAGNE\, 48100\, France
CATEGORIES:Ateliers
ATTACH;FMTTYPE=image/jpeg:https://www.bourgssurcolagne.fr/wp-content/uploads/2026/01/affiche_15_fevrier.jpg
END:VEVENT
END:VCALENDAR